BEGIN:VCALENDAR
VERSION:2.0
PRODID:-//Open Your Heart Massage - ECPv6.15.20//NONSGML v1.0//EN
CALSCALE:GREGORIAN
METHOD:PUBLISH
X-ORIGINAL-URL:https://openyourheartmassage.com
X-WR-CALDESC:Events for Open Your Heart Massage
REFRESH-INTERVAL;VALUE=DURATION:PT1H
X-Robots-Tag:noindex
X-PUBLISHED-TTL:PT1H
BEGIN:VTIMEZONE
TZID:America/New_York
BEGIN:DAYLIGHT
TZOFFSETFROM:-0500
TZOFFSETTO:-0400
TZNAME:EDT
DTSTART:20240310T070000
END:DAYLIGHT
BEGIN:STANDARD
TZOFFSETFROM:-0400
TZOFFSETTO:-0500
TZNAME:EST
DTSTART:20241103T060000
END:STANDARD
BEGIN:DAYLIGHT
TZOFFSETFROM:-0500
TZOFFSETTO:-0400
TZNAME:EDT
DTSTART:20250309T070000
END:DAYLIGHT
BEGIN:STANDARD
TZOFFSETFROM:-0400
TZOFFSETTO:-0500
TZNAME:EST
DTSTART:20251102T060000
END:STANDARD
BEGIN:DAYLIGHT
TZOFFSETFROM:-0500
TZOFFSETTO:-0400
TZNAME:EDT
DTSTART:20260308T070000
END:DAYLIGHT
BEGIN:STANDARD
TZOFFSETFROM:-0400
TZOFFSETTO:-0500
TZNAME:EST
DTSTART:20261101T060000
END:STANDARD
BEGIN:DAYLIGHT
TZOFFSETFROM:-0500
TZOFFSETTO:-0400
TZNAME:EDT
DTSTART:20270314T070000
END:DAYLIGHT
BEGIN:STANDARD
TZOFFSETFROM:-0400
TZOFFSETTO:-0500
TZNAME:EST
DTSTART:20271107T060000
END:STANDARD
END:VTIMEZONE
BEGIN:VEVENT
DTSTART;TZID=America/New_York:20251213T090000
DTEND;TZID=America/New_York:20251213T130000
DTSTAMP:20260423T052652
CREATED:20251111T234025Z
LAST-MODIFIED:20251203T210631Z
UID:2494-1765616400-1765630800@openyourheartmassage.com
SUMMARY:Saline Farmer's Market
DESCRIPTION:Open Your Heart brings a little extra care to the Saline Farmers Market 1-2 times each month. Stop by to enjoy short chair massage sessions\, explore our wellness products\, and pick up fresh baked goodies. It’s a great way to treat yourself while supporting local businesses and we’d love to see you there!
URL:https://openyourheartmassage.com/event/saline-farmers-market/
LOCATION:Liberty School\, 7265 N Ann Arbor St\, Saline\, MI\, 48176\, United States
CATEGORIES:Public Massage Events
ATTACH;FMTTYPE=image/jpeg:https://openyourheartmassage.com/wp-content/uploads/2025/11/saline-farmers-market.jpg
END:VEVENT
BEGIN:VEVENT
DTSTART;TZID=America/New_York:20251213T180000
DTEND;TZID=America/New_York:20251213T200000
DTSTAMP:20260423T052652
CREATED:20251031T192214Z
LAST-MODIFIED:20251210T161950Z
UID:2414-1765648800-1765656000@openyourheartmassage.com
SUMMARY:Yoga Massage
DESCRIPTION:Join us for a rejuvenating two hour self care experience. Recharge\, indulge\, and step into the weekend with energy and ease. Register now to be a part of this special experience! \nEmily from Open Your Heart will lead a gentle 90 minute yoga flow\, while licensed massage therapists move from student to student offering hands on compression\, stretching\, massage\, and warm towels. Following the yoga session\, Jen from Fire Within and Open Your Heart will guide a calming 30 minute sound bath\, allowing you to relax on your mat with cozy blankets\, bolsters\, and an eye pillow. We’ll conclude this blissful evening with a small serving of rich\, velvety cacao sourced from Hawaii\, paired with a sweet treat from Sweet Gem Confections. Make your Saturday night all about you – recharge\, indulge\, and step into the weekend with energy and ease. Come be a part of this special experience!
URL:https://openyourheartmassage.com/event/yoga-massage/
LOCATION:Yogacentric\, 135 E Bennett\, Saline\, 48176\, United States
CATEGORIES:Featured Events,Private Massage Events
ATTACH;FMTTYPE=image/jpeg:https://openyourheartmassage.com/wp-content/uploads/2025/10/yoga-massage.jpg
END:VEVENT
BEGIN:VEVENT
DTSTART;TZID=America/New_York:20251220T090000
DTEND;TZID=America/New_York:20251220T130000
DTSTAMP:20260423T052652
CREATED:20251203T210930Z
LAST-MODIFIED:20251203T210930Z
UID:2901-1766221200-1766235600@openyourheartmassage.com
SUMMARY:Saline Farmer's Market
DESCRIPTION:Open Your Heart brings a little extra care to the Saline Farmers Market 1-2 times each month. Stop by to enjoy short chair massage sessions\, explore our wellness products\, and pick up fresh baked goodies. It’s a great way to treat yourself while supporting local businesses and we’d love to see you there!
URL:https://openyourheartmassage.com/event/saline-farmers-market-3/
LOCATION:Liberty School\, 7265 N Ann Arbor St\, Saline\, MI\, 48176\, United States
CATEGORIES:Public Massage Events
ATTACH;FMTTYPE=image/jpeg:https://openyourheartmassage.com/wp-content/uploads/2025/11/saline-farmers-market.jpg
END:VEVENT
BEGIN:VEVENT
DTSTART;TZID=America/New_York:20260124T090000
DTEND;TZID=America/New_York:20260124T130000
DTSTAMP:20260423T052652
CREATED:20251203T211012Z
LAST-MODIFIED:20251203T211012Z
UID:2900-1769245200-1769259600@openyourheartmassage.com
SUMMARY:Saline Farmer's Market
DESCRIPTION:Open Your Heart brings a little extra care to the Saline Farmers Market 1-2 times each month. Stop by to enjoy short chair massage sessions\, explore our wellness products\, and pick up fresh baked goodies. It’s a great way to treat yourself while supporting local businesses and we’d love to see you there!
URL:https://openyourheartmassage.com/event/saline-farmers-market-4/
LOCATION:Liberty School\, 7265 N Ann Arbor St\, Saline\, MI\, 48176\, United States
CATEGORIES:Public Massage Events
ATTACH;FMTTYPE=image/jpeg:https://openyourheartmassage.com/wp-content/uploads/2025/11/saline-farmers-market.jpg
END:VEVENT
BEGIN:VEVENT
DTSTART;TZID=America/New_York:20260228T090000
DTEND;TZID=America/New_York:20260228T130000
DTSTAMP:20260423T052652
CREATED:20251203T211117Z
LAST-MODIFIED:20251203T211117Z
UID:2899-1772269200-1772283600@openyourheartmassage.com
SUMMARY:Saline Farmer's Market
DESCRIPTION:Open Your Heart brings a little extra care to the Saline Farmers Market 1-2 times each month. Stop by to enjoy short chair massage sessions\, explore our wellness products\, and pick up fresh baked goodies. It’s a great way to treat yourself while supporting local businesses and we’d love to see you there!
URL:https://openyourheartmassage.com/event/saline-farmers-market-5/
LOCATION:Liberty School\, 7265 N Ann Arbor St\, Saline\, MI\, 48176\, United States
CATEGORIES:Public Massage Events
ATTACH;FMTTYPE=image/jpeg:https://openyourheartmassage.com/wp-content/uploads/2025/11/saline-farmers-market.jpg
END:VEVENT
BEGIN:VEVENT
DTSTART;TZID=America/New_York:20260314T090000
DTEND;TZID=America/New_York:20260314T130000
DTSTAMP:20260423T052652
CREATED:20251203T211201Z
LAST-MODIFIED:20251203T211201Z
UID:2898-1773478800-1773493200@openyourheartmassage.com
SUMMARY:Saline Farmer's Market
DESCRIPTION:Open Your Heart brings a little extra care to the Saline Farmers Market 1-2 times each month. Stop by to enjoy short chair massage sessions\, explore our wellness products\, and pick up fresh baked goodies. It’s a great way to treat yourself while supporting local businesses and we’d love to see you there!
URL:https://openyourheartmassage.com/event/saline-farmers-market-6/
LOCATION:Liberty School\, 7265 N Ann Arbor St\, Saline\, MI\, 48176\, United States
CATEGORIES:Public Massage Events
ATTACH;FMTTYPE=image/jpeg:https://openyourheartmassage.com/wp-content/uploads/2025/11/saline-farmers-market.jpg
END:VEVENT
BEGIN:VEVENT
DTSTART;TZID=America/New_York:20260404T090000
DTEND;TZID=America/New_York:20260404T130000
DTSTAMP:20260423T052652
CREATED:20251203T211245Z
LAST-MODIFIED:20251203T211245Z
UID:2897-1775293200-1775307600@openyourheartmassage.com
SUMMARY:Saline Farmer's Market
DESCRIPTION:Open Your Heart brings a little extra care to the Saline Farmers Market 1-2 times each month. Stop by to enjoy short chair massage sessions\, explore our wellness products\, and pick up fresh baked goodies. It’s a great way to treat yourself while supporting local businesses and we’d love to see you there!
URL:https://openyourheartmassage.com/event/saline-farmers-market-7/
LOCATION:Liberty School\, 7265 N Ann Arbor St\, Saline\, MI\, 48176\, United States
CATEGORIES:Public Massage Events
ATTACH;FMTTYPE=image/jpeg:https://openyourheartmassage.com/wp-content/uploads/2025/11/saline-farmers-market.jpg
END:VEVENT
BEGIN:VEVENT
DTSTART;TZID=America/New_York:20260425T090000
DTEND;TZID=America/New_York:20260425T130000
DTSTAMP:20260423T052652
CREATED:20251203T211328Z
LAST-MODIFIED:20251203T211328Z
UID:2896-1777107600-1777122000@openyourheartmassage.com
SUMMARY:Saline Farmer's Market
DESCRIPTION:Open Your Heart brings a little extra care to the Saline Farmers Market 1-2 times each month. Stop by to enjoy short chair massage sessions\, explore our wellness products\, and pick up fresh baked goodies. It’s a great way to treat yourself while supporting local businesses and we’d love to see you there!
URL:https://openyourheartmassage.com/event/saline-farmers-market-8/
LOCATION:Liberty School\, 7265 N Ann Arbor St\, Saline\, MI\, 48176\, United States
CATEGORIES:Public Massage Events
ATTACH;FMTTYPE=image/jpeg:https://openyourheartmassage.com/wp-content/uploads/2025/11/saline-farmers-market.jpg
END:VEVENT
END:VCALENDAR